BEGIN:VCALENDAR
VERSION:2.0
PRODID:SchoolNow
CALSCALE:GREGORIAN
BEGIN:VEVENT
UID:5ab49e10-bdd8-11f0-926b-02c3304d2b5f
DTSTAMP:20251216T200046Z
SUMMARY:FJHS Basketball Vs Pine Grove
URL;VALUE=URI:https://www.northtippah.org/calendar/8786771/fjhs-basketball-
 vs-pine-grove
DTSTART:20251110T233000Z
DTEND:20251111T020000Z
END:VEVENT
END:VCALENDAR
