BEGIN:VCALENDAR
VERSION:2.0
PRODID:SchoolNow
CALSCALE:GREGORIAN
BEGIN:VEVENT
UID:0b93f1b8-c405-11f0-a7b3-0a58a9feac02
DTSTAMP:20251216T200046Z
SUMMARY:FJHS Basketball Vs Biggersville (Boys Only)
URL;VALUE=URI:https://www.northtippah.org/calendar/8800344/fjhs-basketball-
 vs-biggersville-boys-only
DTSTART:20251118T230000Z
DTEND:20251119T000000Z
END:VEVENT
END:VCALENDAR
