BEGIN:VCALENDAR
VERSION:2.0
PRODID:SchoolNow
CALSCALE:GREGORIAN
BEGIN:VEVENT
UID:810d1966-cef9-11f0-95b3-0a58a9feac02
DTSTAMP:20251216T200046Z
SUMMARY:FJHS Basketball @ Pine Grove
URL;VALUE=URI:https://www.northtippah.org/calendar/8814882/fjhs-basketball-
 pine-grove
DTSTART:20251201T233000Z
DTEND:20251202T010000Z
END:VEVENT
END:VCALENDAR
