BEGIN:VCALENDAR
VERSION:2.0
PRODID:SchoolNow
CALSCALE:GREGORIAN
BEGIN:VEVENT
UID:3def6d42-d3c1-11f0-a80e-02ababa4130f
DTSTAMP:20251216T200046Z
SUMMARY:Student 60% Day FES & FHS
URL;VALUE=URI:https://www.northtippah.org/calendar/8819428/student-60-day-f
 es-fhs
DTSTART;VALUE=DATE:20251218
DTEND;VALUE=DATE:20251219
END:VEVENT
END:VCALENDAR
